BEGIN:VCALENDAR
VERSION:2.0
PRODID:-//Back Roads Church - ECPv6.15.20//NONSGML v1.0//EN
CALSCALE:GREGORIAN
METHOD:PUBLISH
X-WR-CALNAME:Back Roads Church
X-ORIGINAL-URL:https://backroadschurch.org
X-WR-CALDESC:Events for Back Roads Church
REFRESH-INTERVAL;VALUE=DURATION:PT1H
X-Robots-Tag:noindex
X-PUBLISHED-TTL:PT1H
BEGIN:VTIMEZONE
TZID:America/Chicago
BEGIN:DAYLIGHT
TZOFFSETFROM:-0600
TZOFFSETTO:-0500
TZNAME:CDT
DTSTART:20260308T080000
END:DAYLIGHT
BEGIN:STANDARD
TZOFFSETFROM:-0500
TZOFFSETTO:-0600
TZNAME:CST
DTSTART:20261101T070000
END:STANDARD
BEGIN:DAYLIGHT
TZOFFSETFROM:-0600
TZOFFSETTO:-0500
TZNAME:CDT
DTSTART:20270314T080000
END:DAYLIGHT
BEGIN:STANDARD
TZOFFSETFROM:-0500
TZOFFSETTO:-0600
TZNAME:CST
DTSTART:20271107T070000
END:STANDARD
BEGIN:DAYLIGHT
TZOFFSETFROM:-0600
TZOFFSETTO:-0500
TZNAME:CDT
DTSTART:20280312T080000
END:DAYLIGHT
BEGIN:STANDARD
TZOFFSETFROM:-0500
TZOFFSETTO:-0600
TZNAME:CST
DTSTART:20281105T070000
END:STANDARD
END:VTIMEZONE
BEGIN:VEVENT
DTSTART;TZID=America/Chicago:20270318T181500
DTEND;TZID=America/Chicago:20270318T181500
DTSTAMP:20260420T113019
CREATED:20260210T222440Z
LAST-MODIFIED:20260210T222501Z
UID:10004284-1805393700-1805393700@backroadschurch.org
SUMMARY:ADMINISTRATIVE COUNCIL MEETING-Boscobel
DESCRIPTION:
URL:https://backroadschurch.org/event/administrative-council-meeting-boscobel-2/2027-03-18/
LOCATION:BRC Church Office\, 107 W. Oak Street\, Boscobel\, WI\, 53805\, United States
END:VEVENT
END:VCALENDAR