BEGIN:VCALENDAR
VERSION:2.0
PRODID:-//Back Roads Church - ECPv6.15.20//NONSGML v1.0//EN
CALSCALE:GREGORIAN
METHOD:PUBLISH
X-WR-CALNAME:Back Roads Church
X-ORIGINAL-URL:https://backroadschurch.org
X-WR-CALDESC:Events for Back Roads Church
REFRESH-INTERVAL;VALUE=DURATION:PT1H
X-Robots-Tag:noindex
X-PUBLISHED-TTL:PT1H
BEGIN:VTIMEZONE
TZID:America/Chicago
BEGIN:DAYLIGHT
TZOFFSETFROM:-0600
TZOFFSETTO:-0500
TZNAME:CDT
DTSTART:20250309T080000
END:DAYLIGHT
BEGIN:STANDARD
TZOFFSETFROM:-0500
TZOFFSETTO:-0600
TZNAME:CST
DTSTART:20251102T070000
END:STANDARD
BEGIN:DAYLIGHT
TZOFFSETFROM:-0600
TZOFFSETTO:-0500
TZNAME:CDT
DTSTART:20260308T080000
END:DAYLIGHT
BEGIN:STANDARD
TZOFFSETFROM:-0500
TZOFFSETTO:-0600
TZNAME:CST
DTSTART:20261101T070000
END:STANDARD
BEGIN:DAYLIGHT
TZOFFSETFROM:-0600
TZOFFSETTO:-0500
TZNAME:CDT
DTSTART:20270314T080000
END:DAYLIGHT
BEGIN:STANDARD
TZOFFSETFROM:-0500
TZOFFSETTO:-0600
TZNAME:CST
DTSTART:20271107T070000
END:STANDARD
END:VTIMEZONE
BEGIN:VEVENT
DTSTART;TZID=America/Chicago:20260216T183000
DTEND;TZID=America/Chicago:20260216T183000
DTSTAMP:20260425T091158
CREATED:20260121T220233Z
LAST-MODIFIED:20260210T220838Z
UID:45028-1771266600-1771266600@backroadschurch.org
SUMMARY:INTERCHURCHMEN'S BANQUET
DESCRIPTION:https://backroadschurch.org/main2/wp-content/uploads/1-23-scaled.jpg
URL:https://backroadschurch.org/event/interchurchmens-banquet/
LOCATION:BRC Mt. Zion\, 21588 Mt. Zion Road\, Boscobel\, WI\, 53805\, United States
END:VEVENT
END:VCALENDAR