BEGIN:VCALENDAR
VERSION:2.0
PRODID:-//Back Roads Church - ECPv6.15.20//NONSGML v1.0//EN
CALSCALE:GREGORIAN
METHOD:PUBLISH
X-WR-CALNAME:Back Roads Church
X-ORIGINAL-URL:https://backroadschurch.org
X-WR-CALDESC:Events for Back Roads Church
REFRESH-INTERVAL;VALUE=DURATION:PT1H
X-Robots-Tag:noindex
X-PUBLISHED-TTL:PT1H
BEGIN:VTIMEZONE
TZID:America/Chicago
BEGIN:DAYLIGHT
TZOFFSETFROM:-0600
TZOFFSETTO:-0500
TZNAME:CDT
DTSTART:20250309T080000
END:DAYLIGHT
BEGIN:STANDARD
TZOFFSETFROM:-0500
TZOFFSETTO:-0600
TZNAME:CST
DTSTART:20251102T070000
END:STANDARD
BEGIN:DAYLIGHT
TZOFFSETFROM:-0600
TZOFFSETTO:-0500
TZNAME:CDT
DTSTART:20260308T080000
END:DAYLIGHT
BEGIN:STANDARD
TZOFFSETFROM:-0500
TZOFFSETTO:-0600
TZNAME:CST
DTSTART:20261101T070000
END:STANDARD
BEGIN:DAYLIGHT
TZOFFSETFROM:-0600
TZOFFSETTO:-0500
TZNAME:CDT
DTSTART:20270314T080000
END:DAYLIGHT
BEGIN:STANDARD
TZOFFSETFROM:-0500
TZOFFSETTO:-0600
TZNAME:CST
DTSTART:20271107T070000
END:STANDARD
END:VTIMEZONE
BEGIN:VEVENT
DTSTART;TZID=America/Chicago:20260628T110000
DTEND;TZID=America/Chicago:20260628T110000
DTSTAMP:20260423T033520
CREATED:20260211T150244Z
LAST-MODIFIED:20260211T150244Z
UID:10015661-1782644400-1782644400@backroadschurch.org
SUMMARY:WORSHIP-MT. ZION
DESCRIPTION:
URL:https://backroadschurch.org/event/worship-mt-zion-7-2-2/2026-06-28/
LOCATION:BRC Mt. Zion\, 21588 Mt. Zion Road\, Boscobel\, WI\, 53805\, United States
END:VEVENT
BEGIN:VEVENT
DTSTART;TZID=America/Chicago:20260701T120000
DTEND;TZID=America/Chicago:20260701T123000
DTSTAMP:20260423T033520
CREATED:20260210T220948Z
LAST-MODIFIED:20260210T220948Z
UID:10013094-1782907200-1782909000@backroadschurch.org
SUMMARY:WEEKLY PRAYER CALL
DESCRIPTION:Call 848-220-3100 and use Conference ID: 53805. Sign up for email reminders: tinyurl.com/PCReminder
URL:https://backroadschurch.org/event/weekly-prayer-call-2-2/2026-07-01/
LOCATION:WI
END:VEVENT
BEGIN:VEVENT
DTSTART;TZID=America/Chicago:20260701T133000
DTEND;TZID=America/Chicago:20260701T160000
DTSTAMP:20260423T033521
CREATED:20260210T222204Z
LAST-MODIFIED:20260210T222205Z
UID:10004653-1782912600-1782921600@backroadschurch.org
SUMMARY:Clothes Closet
DESCRIPTION:Contact Kathi Smith\, phone: 608-521-0261
URL:https://backroadschurch.org/event/clothes-closet-9/2026-07-01/
LOCATION:WI
END:VEVENT
BEGIN:VEVENT
DTSTART;TZID=America/Chicago:20260701T140000
DTEND;TZID=America/Chicago:20260701T160000
DTSTAMP:20260423T033521
CREATED:20260210T222239Z
LAST-MODIFIED:20260210T222300Z
UID:10004456-1782914400-1782921600@backroadschurch.org
SUMMARY:Gays Mills Food Pantry
DESCRIPTION:Phone: 608-606-1269
URL:https://backroadschurch.org/event/gays-mills-food-pantry-4/2026-07-01/
LOCATION:WI
END:VEVENT
BEGIN:VEVENT
DTSTART;TZID=America/Chicago:20260702T190000
DTEND;TZID=America/Chicago:20260702T190000
DTSTAMP:20260423T033521
CREATED:20260210T222352Z
LAST-MODIFIED:20260210T222353Z
UID:10004780-1783018800-1783018800@backroadschurch.org
SUMMARY:ADMINISTRATIVE COUNCIL MEETING-Mt Zion
DESCRIPTION:
URL:https://backroadschurch.org/event/administrative-council-meeting-mt-zion-2/2026-07-02/
LOCATION:BRC Mt. Zion\, 21588 Mt. Zion Road\, Boscobel\, WI\, 53805\, United States
END:VEVENT
BEGIN:VEVENT
DTSTART;TZID=America/Chicago:20260704T090000
DTEND;TZID=America/Chicago:20260704T120000
DTSTAMP:20260423T033521
CREATED:20260210T222634Z
LAST-MODIFIED:20260210T222634Z
UID:10003829-1783155600-1783166400@backroadschurch.org
SUMMARY:Clothes Closet
DESCRIPTION:https://www.facebook.com/Appleland-Community-Closet-105728111058125
URL:https://backroadschurch.org/event/clothes-closet-6-2/2026-07-04/
LOCATION:WI
END:VEVENT
BEGIN:VEVENT
DTSTART;TZID=America/Chicago:20260705T073000
DTEND;TZID=America/Chicago:20260705T073000
DTSTAMP:20260423T033521
CREATED:20260209T170347Z
LAST-MODIFIED:20260211T150623Z
UID:10016424-1783236600-1783236600@backroadschurch.org
SUMMARY:WORSHIP-BOSCOBEL
DESCRIPTION:
URL:https://backroadschurch.org/event/worship-boscobel-9/2026-07-05/
LOCATION:BRC Boscobel\, 104 BUCHANAN ST\, Boscobel\, WI\, 53805\, United States
END:VEVENT
BEGIN:VEVENT
DTSTART;TZID=America/Chicago:20260705T090000
DTEND;TZID=America/Chicago:20260705T090000
DTSTAMP:20260423T033521
CREATED:20260211T150019Z
LAST-MODIFIED:20260211T150020Z
UID:10015912-1783242000-1783242000@backroadschurch.org
SUMMARY:WORSHIP-BLOOMINGTON
DESCRIPTION:
URL:https://backroadschurch.org/event/worship-bloomington-5-2-2/2026-07-05/
LOCATION:BRC Bloomington\, 225 Congress Street\, Bloomington\, WI
END:VEVENT
BEGIN:VEVENT
DTSTART;TZID=America/Chicago:20260705T093000
DTEND;TZID=America/Chicago:20260705T093000
DTSTAMP:20260423T033521
CREATED:20260203T180325Z
LAST-MODIFIED:20260211T150326Z
UID:10016162-1783243800-1783243800@backroadschurch.org
SUMMARY:WORSHIP-RICHLAND CENTER
DESCRIPTION:
URL:https://backroadschurch.org/event/worship-richland-center-2/2026-07-05/
LOCATION:BRC Richland Center\, 794 Jefferson Street\, Richland Center\, WI\, 53581\, United States
END:VEVENT
BEGIN:VEVENT
DTSTART;TZID=America/Chicago:20260705T110000
DTEND;TZID=America/Chicago:20260705T110000
DTSTAMP:20260423T033521
CREATED:20260211T150244Z
LAST-MODIFIED:20260211T150244Z
UID:10015662-1783249200-1783249200@backroadschurch.org
SUMMARY:WORSHIP-MT. ZION
DESCRIPTION:
URL:https://backroadschurch.org/event/worship-mt-zion-7-2-2/2026-07-05/
LOCATION:BRC Mt. Zion\, 21588 Mt. Zion Road\, Boscobel\, WI\, 53805\, United States
END:VEVENT
BEGIN:VEVENT
DTSTART;TZID=America/Chicago:20260708T120000
DTEND;TZID=America/Chicago:20260708T123000
DTSTAMP:20260423T033521
CREATED:20260210T220948Z
LAST-MODIFIED:20260210T220948Z
UID:10013095-1783512000-1783513800@backroadschurch.org
SUMMARY:WEEKLY PRAYER CALL
DESCRIPTION:Call 848-220-3100 and use Conference ID: 53805. Sign up for email reminders: tinyurl.com/PCReminder
URL:https://backroadschurch.org/event/weekly-prayer-call-2-2/2026-07-08/
LOCATION:WI
END:VEVENT
BEGIN:VEVENT
DTSTART;TZID=America/Chicago:20260708T133000
DTEND;TZID=America/Chicago:20260708T160000
DTSTAMP:20260423T033521
CREATED:20260210T222204Z
LAST-MODIFIED:20260210T222205Z
UID:10004654-1783517400-1783526400@backroadschurch.org
SUMMARY:Clothes Closet
DESCRIPTION:Contact Kathi Smith\, phone: 608-521-0261
URL:https://backroadschurch.org/event/clothes-closet-9/2026-07-08/
LOCATION:WI
END:VEVENT
BEGIN:VEVENT
DTSTART;TZID=America/Chicago:20260711T090000
DTEND;TZID=America/Chicago:20260711T120000
DTSTAMP:20260423T033521
CREATED:20260210T222634Z
LAST-MODIFIED:20260210T222634Z
UID:10003830-1783760400-1783771200@backroadschurch.org
SUMMARY:Clothes Closet
DESCRIPTION:https://www.facebook.com/Appleland-Community-Closet-105728111058125
URL:https://backroadschurch.org/event/clothes-closet-6-2/2026-07-11/
LOCATION:WI
END:VEVENT
BEGIN:VEVENT
DTSTART;TZID=America/Chicago:20260712T073000
DTEND;TZID=America/Chicago:20260712T073000
DTSTAMP:20260423T033521
CREATED:20260209T170347Z
LAST-MODIFIED:20260211T150623Z
UID:10016425-1783841400-1783841400@backroadschurch.org
SUMMARY:WORSHIP-BOSCOBEL
DESCRIPTION:
URL:https://backroadschurch.org/event/worship-boscobel-9/2026-07-12/
LOCATION:BRC Boscobel\, 104 BUCHANAN ST\, Boscobel\, WI\, 53805\, United States
END:VEVENT
BEGIN:VEVENT
DTSTART;TZID=America/Chicago:20260712T090000
DTEND;TZID=America/Chicago:20260712T090000
DTSTAMP:20260423T033521
CREATED:20260211T150019Z
LAST-MODIFIED:20260211T150020Z
UID:10015913-1783846800-1783846800@backroadschurch.org
SUMMARY:WORSHIP-BLOOMINGTON
DESCRIPTION:
URL:https://backroadschurch.org/event/worship-bloomington-5-2-2/2026-07-12/
LOCATION:BRC Bloomington\, 225 Congress Street\, Bloomington\, WI
END:VEVENT
BEGIN:VEVENT
DTSTART;TZID=America/Chicago:20260712T093000
DTEND;TZID=America/Chicago:20260712T093000
DTSTAMP:20260423T033521
CREATED:20260203T180325Z
LAST-MODIFIED:20260211T150326Z
UID:10016163-1783848600-1783848600@backroadschurch.org
SUMMARY:WORSHIP-RICHLAND CENTER
DESCRIPTION:
URL:https://backroadschurch.org/event/worship-richland-center-2/2026-07-12/
LOCATION:BRC Richland Center\, 794 Jefferson Street\, Richland Center\, WI\, 53581\, United States
END:VEVENT
BEGIN:VEVENT
DTSTART;TZID=America/Chicago:20260712T110000
DTEND;TZID=America/Chicago:20260712T110000
DTSTAMP:20260423T033521
CREATED:20260211T150244Z
LAST-MODIFIED:20260211T150244Z
UID:10015663-1783854000-1783854000@backroadschurch.org
SUMMARY:WORSHIP-MT. ZION
DESCRIPTION:
URL:https://backroadschurch.org/event/worship-mt-zion-7-2-2/2026-07-12/
LOCATION:BRC Mt. Zion\, 21588 Mt. Zion Road\, Boscobel\, WI\, 53805\, United States
END:VEVENT
BEGIN:VEVENT
DTSTART;TZID=America/Chicago:20260714T120000
DTEND;TZID=America/Chicago:20260714T123000
DTSTAMP:20260423T033521
CREATED:20260210T222702Z
LAST-MODIFIED:20260210T222702Z
UID:10004841-1784030400-1784032200@backroadschurch.org
SUMMARY:Second Harvest Mobile Food Pantry (Patch Grove)
DESCRIPTION:https://www.secondharvestmadison.org/mobile-food-pantry-calendar/
URL:https://backroadschurch.org/event/second-harvest-mobile-food-pantry-patch-grove-2/2026-07-14/
LOCATION:WI
END:VEVENT
BEGIN:VEVENT
DTSTART;TZID=America/Chicago:20260715T120000
DTEND;TZID=America/Chicago:20260715T123000
DTSTAMP:20260423T033521
CREATED:20260210T220948Z
LAST-MODIFIED:20260210T220948Z
UID:10013096-1784116800-1784118600@backroadschurch.org
SUMMARY:WEEKLY PRAYER CALL
DESCRIPTION:Call 848-220-3100 and use Conference ID: 53805. Sign up for email reminders: tinyurl.com/PCReminder
URL:https://backroadschurch.org/event/weekly-prayer-call-2-2/2026-07-15/
LOCATION:WI
END:VEVENT
BEGIN:VEVENT
DTSTART;TZID=America/Chicago:20260715T133000
DTEND;TZID=America/Chicago:20260715T160000
DTSTAMP:20260423T033521
CREATED:20260210T222204Z
LAST-MODIFIED:20260210T222205Z
UID:10004655-1784122200-1784131200@backroadschurch.org
SUMMARY:Clothes Closet
DESCRIPTION:Contact Kathi Smith\, phone: 608-521-0261
URL:https://backroadschurch.org/event/clothes-closet-9/2026-07-15/
LOCATION:WI
END:VEVENT
BEGIN:VEVENT
DTSTART;TZID=America/Chicago:20260716T181500
DTEND;TZID=America/Chicago:20260716T181500
DTSTAMP:20260423T033521
CREATED:20260210T222440Z
LAST-MODIFIED:20260210T222501Z
UID:10004276-1784225700-1784225700@backroadschurch.org
SUMMARY:ADMINISTRATIVE COUNCIL MEETING-Boscobel
DESCRIPTION:
URL:https://backroadschurch.org/event/administrative-council-meeting-boscobel-2/2026-07-16/
LOCATION:BRC Church Office\, 107 W. Oak Street\, Boscobel\, WI\, 53805\, United States
END:VEVENT
BEGIN:VEVENT
DTSTART;TZID=America/Chicago:20260718T074500
DTEND;TZID=America/Chicago:20260718T094500
DTSTAMP:20260423T033521
CREATED:20260309T170625Z
LAST-MODIFIED:20260309T181650Z
UID:10016669-1784360700-1784367900@backroadschurch.org
SUMMARY:BRC FOOD PANTRY
DESCRIPTION:All in need are welcome!
URL:https://backroadschurch.org/event/brc-food-pantry/2026-07-18/
LOCATION:BRC Boscobel\, 104 BUCHANAN ST\, Boscobel\, WI\, 53805\, United States
END:VEVENT
BEGIN:VEVENT
DTSTART;TZID=America/Chicago:20260718T090000
DTEND;TZID=America/Chicago:20260718T120000
DTSTAMP:20260423T033521
CREATED:20260210T222634Z
LAST-MODIFIED:20260210T222634Z
UID:10003831-1784365200-1784376000@backroadschurch.org
SUMMARY:Clothes Closet
DESCRIPTION:https://www.facebook.com/Appleland-Community-Closet-105728111058125
URL:https://backroadschurch.org/event/clothes-closet-6-2/2026-07-18/
LOCATION:WI
END:VEVENT
BEGIN:VEVENT
DTSTART;TZID=America/Chicago:20260719T073000
DTEND;TZID=America/Chicago:20260719T073000
DTSTAMP:20260423T033521
CREATED:20260209T170347Z
LAST-MODIFIED:20260211T150623Z
UID:10016426-1784446200-1784446200@backroadschurch.org
SUMMARY:WORSHIP-BOSCOBEL
DESCRIPTION:
URL:https://backroadschurch.org/event/worship-boscobel-9/2026-07-19/
LOCATION:BRC Boscobel\, 104 BUCHANAN ST\, Boscobel\, WI\, 53805\, United States
END:VEVENT
BEGIN:VEVENT
DTSTART;TZID=America/Chicago:20260719T090000
DTEND;TZID=America/Chicago:20260719T090000
DTSTAMP:20260423T033521
CREATED:20260211T150019Z
LAST-MODIFIED:20260211T150020Z
UID:10015914-1784451600-1784451600@backroadschurch.org
SUMMARY:WORSHIP-BLOOMINGTON
DESCRIPTION:
URL:https://backroadschurch.org/event/worship-bloomington-5-2-2/2026-07-19/
LOCATION:BRC Bloomington\, 225 Congress Street\, Bloomington\, WI
END:VEVENT
BEGIN:VEVENT
DTSTART;TZID=America/Chicago:20260719T093000
DTEND;TZID=America/Chicago:20260719T093000
DTSTAMP:20260423T033521
CREATED:20260203T180325Z
LAST-MODIFIED:20260211T150326Z
UID:10016164-1784453400-1784453400@backroadschurch.org
SUMMARY:WORSHIP-RICHLAND CENTER
DESCRIPTION:
URL:https://backroadschurch.org/event/worship-richland-center-2/2026-07-19/
LOCATION:BRC Richland Center\, 794 Jefferson Street\, Richland Center\, WI\, 53581\, United States
END:VEVENT
BEGIN:VEVENT
DTSTART;TZID=America/Chicago:20260719T110000
DTEND;TZID=America/Chicago:20260719T110000
DTSTAMP:20260423T033521
CREATED:20260211T150244Z
LAST-MODIFIED:20260211T150244Z
UID:10015664-1784458800-1784458800@backroadschurch.org
SUMMARY:WORSHIP-MT. ZION
DESCRIPTION:
URL:https://backroadschurch.org/event/worship-mt-zion-7-2-2/2026-07-19/
LOCATION:BRC Mt. Zion\, 21588 Mt. Zion Road\, Boscobel\, WI\, 53805\, United States
END:VEVENT
BEGIN:VEVENT
DTSTART;TZID=America/Chicago:20260721T100000
DTEND;TZID=America/Chicago:20260721T110000
DTSTAMP:20260423T033521
CREATED:20260210T222739Z
LAST-MODIFIED:20260210T222740Z
UID:10003574-1784628000-1784631600@backroadschurch.org
SUMMARY:Second Harvest Mobile Food Pantry (Boscobel)
DESCRIPTION:https://www.secondharvestmadison.org/mobile-food-pantry-calendar/
URL:https://backroadschurch.org/event/second-harvest-mobile-food-pantry-boscobel-2/2026-07-21/
LOCATION:WI
END:VEVENT
BEGIN:VEVENT
DTSTART;TZID=America/Chicago:20260722T120000
DTEND;TZID=America/Chicago:20260722T123000
DTSTAMP:20260423T033521
CREATED:20260210T220948Z
LAST-MODIFIED:20260210T220948Z
UID:10013097-1784721600-1784723400@backroadschurch.org
SUMMARY:WEEKLY PRAYER CALL
DESCRIPTION:Call 848-220-3100 and use Conference ID: 53805. Sign up for email reminders: tinyurl.com/PCReminder
URL:https://backroadschurch.org/event/weekly-prayer-call-2-2/2026-07-22/
LOCATION:WI
END:VEVENT
BEGIN:VEVENT
DTSTART;TZID=America/Chicago:20260722T133000
DTEND;TZID=America/Chicago:20260722T160000
DTSTAMP:20260423T033521
CREATED:20260210T222204Z
LAST-MODIFIED:20260210T222205Z
UID:10004656-1784727000-1784736000@backroadschurch.org
SUMMARY:Clothes Closet
DESCRIPTION:Contact Kathi Smith\, phone: 608-521-0261
URL:https://backroadschurch.org/event/clothes-closet-9/2026-07-22/
LOCATION:WI
END:VEVENT
END:VCALENDAR