BEGIN:VCALENDAR
VERSION:2.0
PRODID:-//Back Roads Church - ECPv6.15.20//NONSGML v1.0//EN
CALSCALE:GREGORIAN
METHOD:PUBLISH
X-WR-CALNAME:Back Roads Church
X-ORIGINAL-URL:https://backroadschurch.org
X-WR-CALDESC:Events for Back Roads Church
REFRESH-INTERVAL;VALUE=DURATION:PT1H
X-Robots-Tag:noindex
X-PUBLISHED-TTL:PT1H
BEGIN:VTIMEZONE
TZID:America/Chicago
BEGIN:DAYLIGHT
TZOFFSETFROM:-0600
TZOFFSETTO:-0500
TZNAME:CDT
DTSTART:20250309T080000
END:DAYLIGHT
BEGIN:STANDARD
TZOFFSETFROM:-0500
TZOFFSETTO:-0600
TZNAME:CST
DTSTART:20251102T070000
END:STANDARD
BEGIN:DAYLIGHT
TZOFFSETFROM:-0600
TZOFFSETTO:-0500
TZNAME:CDT
DTSTART:20260308T080000
END:DAYLIGHT
BEGIN:STANDARD
TZOFFSETFROM:-0500
TZOFFSETTO:-0600
TZNAME:CST
DTSTART:20261101T070000
END:STANDARD
BEGIN:DAYLIGHT
TZOFFSETFROM:-0600
TZOFFSETTO:-0500
TZNAME:CDT
DTSTART:20270314T080000
END:DAYLIGHT
BEGIN:STANDARD
TZOFFSETFROM:-0500
TZOFFSETTO:-0600
TZNAME:CST
DTSTART:20271107T070000
END:STANDARD
END:VTIMEZONE
BEGIN:VEVENT
DTSTART;TZID=America/Chicago:20260425T090000
DTEND;TZID=America/Chicago:20260425T120000
DTSTAMP:20260422T070736
CREATED:20260210T222634Z
LAST-MODIFIED:20260210T222634Z
UID:10003819-1777107600-1777118400@backroadschurch.org
SUMMARY:Clothes Closet
DESCRIPTION:https://www.facebook.com/Appleland-Community-Closet-105728111058125
URL:https://backroadschurch.org/event/clothes-closet-6-2/2026-04-25/
LOCATION:WI
END:VEVENT
BEGIN:VEVENT
DTSTART;TZID=America/Chicago:20260426T073000
DTEND;TZID=America/Chicago:20260426T073000
DTSTAMP:20260422T070736
CREATED:20260209T170347Z
LAST-MODIFIED:20260211T150623Z
UID:10016415-1777188600-1777188600@backroadschurch.org
SUMMARY:WORSHIP-BOSCOBEL
DESCRIPTION:
URL:https://backroadschurch.org/event/worship-boscobel-9/2026-04-26/
LOCATION:BRC Boscobel\, 104 BUCHANAN ST\, Boscobel\, WI\, 53805\, United States
END:VEVENT
BEGIN:VEVENT
DTSTART;TZID=America/Chicago:20260426T090000
DTEND;TZID=America/Chicago:20260426T090000
DTSTAMP:20260422T070736
CREATED:20260211T150019Z
LAST-MODIFIED:20260211T150020Z
UID:10015903-1777194000-1777194000@backroadschurch.org
SUMMARY:WORSHIP-BLOOMINGTON
DESCRIPTION:
URL:https://backroadschurch.org/event/worship-bloomington-5-2-2/2026-04-26/
LOCATION:BRC Bloomington\, 225 Congress Street\, Bloomington\, WI
END:VEVENT
BEGIN:VEVENT
DTSTART;TZID=America/Chicago:20260426T093000
DTEND;TZID=America/Chicago:20260426T093000
DTSTAMP:20260422T070736
CREATED:20260203T180325Z
LAST-MODIFIED:20260211T150326Z
UID:10016153-1777195800-1777195800@backroadschurch.org
SUMMARY:WORSHIP-RICHLAND CENTER
DESCRIPTION:
URL:https://backroadschurch.org/event/worship-richland-center-2/2026-04-26/
LOCATION:BRC Richland Center\, 794 Jefferson Street\, Richland Center\, WI\, 53581\, United States
END:VEVENT
BEGIN:VEVENT
DTSTART;TZID=America/Chicago:20260426T110000
DTEND;TZID=America/Chicago:20260426T110000
DTSTAMP:20260422T070736
CREATED:20260211T150244Z
LAST-MODIFIED:20260211T150244Z
UID:10015653-1777201200-1777201200@backroadschurch.org
SUMMARY:WORSHIP-MT. ZION
DESCRIPTION:
URL:https://backroadschurch.org/event/worship-mt-zion-7-2-2/2026-04-26/
LOCATION:BRC Mt. Zion\, 21588 Mt. Zion Road\, Boscobel\, WI\, 53805\, United States
END:VEVENT
BEGIN:VEVENT
DTSTART;TZID=America/Chicago:20260429T120000
DTEND;TZID=America/Chicago:20260429T123000
DTSTAMP:20260422T070736
CREATED:20260210T220948Z
LAST-MODIFIED:20260210T220948Z
UID:10013085-1777464000-1777465800@backroadschurch.org
SUMMARY:WEEKLY PRAYER CALL
DESCRIPTION:Call 848-220-3100 and use Conference ID: 53805. Sign up for email reminders: tinyurl.com/PCReminder
URL:https://backroadschurch.org/event/weekly-prayer-call-2-2/2026-04-29/
LOCATION:WI
END:VEVENT
BEGIN:VEVENT
DTSTART;TZID=America/Chicago:20260429T133000
DTEND;TZID=America/Chicago:20260429T160000
DTSTAMP:20260422T070736
CREATED:20260210T222204Z
LAST-MODIFIED:20260210T222205Z
UID:10004644-1777469400-1777478400@backroadschurch.org
SUMMARY:Clothes Closet
DESCRIPTION:Contact Kathi Smith\, phone: 608-521-0261
URL:https://backroadschurch.org/event/clothes-closet-9/2026-04-29/
LOCATION:WI
END:VEVENT
BEGIN:VEVENT
DTSTART;TZID=America/Chicago:20260429T180000
DTEND;TZID=America/Chicago:20260429T193000
DTSTAMP:20260422T070736
CREATED:20260209T170847Z
LAST-MODIFIED:20260211T143438Z
UID:10015261-1777485600-1777491000@backroadschurch.org
SUMMARY:WNSS
DESCRIPTION:
URL:https://backroadschurch.org/event/wnss/2026-04-29/
LOCATION:BRC Boscobel\, 104 BUCHANAN ST\, Boscobel\, WI\, 53805\, United States
END:VEVENT
BEGIN:VEVENT
DTSTART;TZID=America/Chicago:20260429T181500
DTEND;TZID=America/Chicago:20260429T191500
DTSTAMP:20260422T070736
CREATED:20260210T221034Z
LAST-MODIFIED:20260211T143608Z
UID:10012969-1777486500-1777490100@backroadschurch.org
SUMMARY:BACK ROADS YOUTH (JH)
DESCRIPTION:
URL:https://backroadschurch.org/event/back-roads-youth-jh-2-2/2026-04-29/
LOCATION:BRC Boscobel\, 104 BUCHANAN ST\, Boscobel\, WI\, 53805\, United States
END:VEVENT
BEGIN:VEVENT
DTSTART;TZID=America/Chicago:20260429T191500
DTEND;TZID=America/Chicago:20260429T201500
DTSTAMP:20260422T070736
CREATED:20260210T221211Z
LAST-MODIFIED:20260211T143818Z
UID:10013004-1777490100-1777493700@backroadschurch.org
SUMMARY:BACK ROADS YOUTH (SH)
DESCRIPTION:
URL:https://backroadschurch.org/event/back-roads-youth-sh-2-2/2026-04-29/
LOCATION:BRC Boscobel\, 104 BUCHANAN ST\, Boscobel\, WI\, 53805\, United States
END:VEVENT
BEGIN:VEVENT
DTSTART;TZID=America/Chicago:20260502T090000
DTEND;TZID=America/Chicago:20260502T120000
DTSTAMP:20260422T070736
CREATED:20260210T222634Z
LAST-MODIFIED:20260210T222634Z
UID:10003820-1777712400-1777723200@backroadschurch.org
SUMMARY:Clothes Closet
DESCRIPTION:https://www.facebook.com/Appleland-Community-Closet-105728111058125
URL:https://backroadschurch.org/event/clothes-closet-6-2/2026-05-02/
LOCATION:WI
END:VEVENT
BEGIN:VEVENT
DTSTART;TZID=America/Chicago:20260503T073000
DTEND;TZID=America/Chicago:20260503T073000
DTSTAMP:20260422T070736
CREATED:20260209T170347Z
LAST-MODIFIED:20260211T150623Z
UID:10016416-1777793400-1777793400@backroadschurch.org
SUMMARY:WORSHIP-BOSCOBEL
DESCRIPTION:
URL:https://backroadschurch.org/event/worship-boscobel-9/2026-05-03/
LOCATION:BRC Boscobel\, 104 BUCHANAN ST\, Boscobel\, WI\, 53805\, United States
END:VEVENT
BEGIN:VEVENT
DTSTART;TZID=America/Chicago:20260503T090000
DTEND;TZID=America/Chicago:20260503T090000
DTSTAMP:20260422T070736
CREATED:20260211T150019Z
LAST-MODIFIED:20260211T150020Z
UID:10015904-1777798800-1777798800@backroadschurch.org
SUMMARY:WORSHIP-BLOOMINGTON
DESCRIPTION:
URL:https://backroadschurch.org/event/worship-bloomington-5-2-2/2026-05-03/
LOCATION:BRC Bloomington\, 225 Congress Street\, Bloomington\, WI
END:VEVENT
BEGIN:VEVENT
DTSTART;TZID=America/Chicago:20260503T093000
DTEND;TZID=America/Chicago:20260503T093000
DTSTAMP:20260422T070736
CREATED:20260203T180325Z
LAST-MODIFIED:20260211T150326Z
UID:10016154-1777800600-1777800600@backroadschurch.org
SUMMARY:WORSHIP-RICHLAND CENTER
DESCRIPTION:
URL:https://backroadschurch.org/event/worship-richland-center-2/2026-05-03/
LOCATION:BRC Richland Center\, 794 Jefferson Street\, Richland Center\, WI\, 53581\, United States
END:VEVENT
BEGIN:VEVENT
DTSTART;TZID=America/Chicago:20260503T110000
DTEND;TZID=America/Chicago:20260503T110000
DTSTAMP:20260422T070736
CREATED:20260211T150244Z
LAST-MODIFIED:20260211T150244Z
UID:10015654-1777806000-1777806000@backroadschurch.org
SUMMARY:WORSHIP-MT. ZION
DESCRIPTION:
URL:https://backroadschurch.org/event/worship-mt-zion-7-2-2/2026-05-03/
LOCATION:BRC Mt. Zion\, 21588 Mt. Zion Road\, Boscobel\, WI\, 53805\, United States
END:VEVENT
BEGIN:VEVENT
DTSTART;TZID=America/Chicago:20260506T120000
DTEND;TZID=America/Chicago:20260506T123000
DTSTAMP:20260422T070736
CREATED:20260210T220948Z
LAST-MODIFIED:20260210T220948Z
UID:10013086-1778068800-1778070600@backroadschurch.org
SUMMARY:WEEKLY PRAYER CALL
DESCRIPTION:Call 848-220-3100 and use Conference ID: 53805. Sign up for email reminders: tinyurl.com/PCReminder
URL:https://backroadschurch.org/event/weekly-prayer-call-2-2/2026-05-06/
LOCATION:WI
END:VEVENT
BEGIN:VEVENT
DTSTART;TZID=America/Chicago:20260506T133000
DTEND;TZID=America/Chicago:20260506T160000
DTSTAMP:20260422T070736
CREATED:20260210T222204Z
LAST-MODIFIED:20260210T222205Z
UID:10004645-1778074200-1778083200@backroadschurch.org
SUMMARY:Clothes Closet
DESCRIPTION:Contact Kathi Smith\, phone: 608-521-0261
URL:https://backroadschurch.org/event/clothes-closet-9/2026-05-06/
LOCATION:WI
END:VEVENT
BEGIN:VEVENT
DTSTART;TZID=America/Chicago:20260506T140000
DTEND;TZID=America/Chicago:20260506T160000
DTSTAMP:20260422T070736
CREATED:20260210T222239Z
LAST-MODIFIED:20260210T222300Z
UID:10004454-1778076000-1778083200@backroadschurch.org
SUMMARY:Gays Mills Food Pantry
DESCRIPTION:Phone: 608-606-1269
URL:https://backroadschurch.org/event/gays-mills-food-pantry-4/2026-05-06/
LOCATION:WI
END:VEVENT
BEGIN:VEVENT
DTSTART;TZID=America/Chicago:20260506T180000
DTEND;TZID=America/Chicago:20260506T193000
DTSTAMP:20260422T070736
CREATED:20260209T170847Z
LAST-MODIFIED:20260211T143438Z
UID:10015262-1778090400-1778095800@backroadschurch.org
SUMMARY:WNSS
DESCRIPTION:
URL:https://backroadschurch.org/event/wnss/2026-05-06/
LOCATION:BRC Boscobel\, 104 BUCHANAN ST\, Boscobel\, WI\, 53805\, United States
END:VEVENT
BEGIN:VEVENT
DTSTART;TZID=America/Chicago:20260506T181500
DTEND;TZID=America/Chicago:20260506T191500
DTSTAMP:20260422T070736
CREATED:20260210T221034Z
LAST-MODIFIED:20260211T143608Z
UID:10012970-1778091300-1778094900@backroadschurch.org
SUMMARY:BACK ROADS YOUTH (JH)
DESCRIPTION:
URL:https://backroadschurch.org/event/back-roads-youth-jh-2-2/2026-05-06/
LOCATION:BRC Boscobel\, 104 BUCHANAN ST\, Boscobel\, WI\, 53805\, United States
END:VEVENT
BEGIN:VEVENT
DTSTART;TZID=America/Chicago:20260506T191500
DTEND;TZID=America/Chicago:20260506T201500
DTSTAMP:20260422T070736
CREATED:20260210T221211Z
LAST-MODIFIED:20260211T143818Z
UID:10013005-1778094900-1778098500@backroadschurch.org
SUMMARY:BACK ROADS YOUTH (SH)
DESCRIPTION:
URL:https://backroadschurch.org/event/back-roads-youth-sh-2-2/2026-05-06/
LOCATION:BRC Boscobel\, 104 BUCHANAN ST\, Boscobel\, WI\, 53805\, United States
END:VEVENT
BEGIN:VEVENT
DTSTART;TZID=America/Chicago:20260507T190000
DTEND;TZID=America/Chicago:20260507T190000
DTSTAMP:20260422T070736
CREATED:20260210T222352Z
LAST-MODIFIED:20260210T222353Z
UID:10004778-1778180400-1778180400@backroadschurch.org
SUMMARY:ADMINISTRATIVE COUNCIL MEETING-Mt Zion
DESCRIPTION:
URL:https://backroadschurch.org/event/administrative-council-meeting-mt-zion-2/2026-05-07/
LOCATION:BRC Mt. Zion\, 21588 Mt. Zion Road\, Boscobel\, WI\, 53805\, United States
END:VEVENT
BEGIN:VEVENT
DTSTART;TZID=America/Chicago:20260509T090000
DTEND;TZID=America/Chicago:20260509T120000
DTSTAMP:20260422T070736
CREATED:20260210T222634Z
LAST-MODIFIED:20260210T222634Z
UID:10003821-1778317200-1778328000@backroadschurch.org
SUMMARY:Clothes Closet
DESCRIPTION:https://www.facebook.com/Appleland-Community-Closet-105728111058125
URL:https://backroadschurch.org/event/clothes-closet-6-2/2026-05-09/
LOCATION:WI
END:VEVENT
BEGIN:VEVENT
DTSTART;TZID=America/Chicago:20260510T073000
DTEND;TZID=America/Chicago:20260510T073000
DTSTAMP:20260422T070736
CREATED:20260209T170347Z
LAST-MODIFIED:20260211T150623Z
UID:10016417-1778398200-1778398200@backroadschurch.org
SUMMARY:WORSHIP-BOSCOBEL
DESCRIPTION:
URL:https://backroadschurch.org/event/worship-boscobel-9/2026-05-10/
LOCATION:BRC Boscobel\, 104 BUCHANAN ST\, Boscobel\, WI\, 53805\, United States
END:VEVENT
BEGIN:VEVENT
DTSTART;TZID=America/Chicago:20260510T090000
DTEND;TZID=America/Chicago:20260510T090000
DTSTAMP:20260422T070736
CREATED:20260211T150019Z
LAST-MODIFIED:20260211T150020Z
UID:10015905-1778403600-1778403600@backroadschurch.org
SUMMARY:WORSHIP-BLOOMINGTON
DESCRIPTION:
URL:https://backroadschurch.org/event/worship-bloomington-5-2-2/2026-05-10/
LOCATION:BRC Bloomington\, 225 Congress Street\, Bloomington\, WI
END:VEVENT
BEGIN:VEVENT
DTSTART;TZID=America/Chicago:20260510T093000
DTEND;TZID=America/Chicago:20260510T093000
DTSTAMP:20260422T070736
CREATED:20260203T180325Z
LAST-MODIFIED:20260211T150326Z
UID:10016155-1778405400-1778405400@backroadschurch.org
SUMMARY:WORSHIP-RICHLAND CENTER
DESCRIPTION:
URL:https://backroadschurch.org/event/worship-richland-center-2/2026-05-10/
LOCATION:BRC Richland Center\, 794 Jefferson Street\, Richland Center\, WI\, 53581\, United States
END:VEVENT
BEGIN:VEVENT
DTSTART;TZID=America/Chicago:20260510T110000
DTEND;TZID=America/Chicago:20260510T110000
DTSTAMP:20260422T070736
CREATED:20260211T150244Z
LAST-MODIFIED:20260211T150244Z
UID:10015655-1778410800-1778410800@backroadschurch.org
SUMMARY:WORSHIP-MT. ZION
DESCRIPTION:
URL:https://backroadschurch.org/event/worship-mt-zion-7-2-2/2026-05-10/
LOCATION:BRC Mt. Zion\, 21588 Mt. Zion Road\, Boscobel\, WI\, 53805\, United States
END:VEVENT
BEGIN:VEVENT
DTSTART;TZID=America/Chicago:20260512T120000
DTEND;TZID=America/Chicago:20260512T123000
DTSTAMP:20260422T070736
CREATED:20260210T222702Z
LAST-MODIFIED:20260210T222702Z
UID:10004839-1778587200-1778589000@backroadschurch.org
SUMMARY:Second Harvest Mobile Food Pantry (Patch Grove)
DESCRIPTION:https://www.secondharvestmadison.org/mobile-food-pantry-calendar/
URL:https://backroadschurch.org/event/second-harvest-mobile-food-pantry-patch-grove-2/2026-05-12/
LOCATION:WI
END:VEVENT
BEGIN:VEVENT
DTSTART;TZID=America/Chicago:20260512T163000
DTEND;TZID=America/Chicago:20260512T190000
DTSTAMP:20260422T070736
CREATED:20260210T220237Z
LAST-MODIFIED:20260210T220237Z
UID:10015248-1778603400-1778612400@backroadschurch.org
SUMMARY:TACO TUESDAY SUPPER
DESCRIPTION:
URL:https://backroadschurch.org/event/taco-tuesday-supper-3-2/2026-05-12/
LOCATION:BRC Boscobel\, 104 BUCHANAN ST\, Boscobel\, WI\, 53805\, United States
END:VEVENT
BEGIN:VEVENT
DTSTART;TZID=America/Chicago:20260513T120000
DTEND;TZID=America/Chicago:20260513T123000
DTSTAMP:20260422T070736
CREATED:20260210T220948Z
LAST-MODIFIED:20260210T220948Z
UID:10013087-1778673600-1778675400@backroadschurch.org
SUMMARY:WEEKLY PRAYER CALL
DESCRIPTION:Call 848-220-3100 and use Conference ID: 53805. Sign up for email reminders: tinyurl.com/PCReminder
URL:https://backroadschurch.org/event/weekly-prayer-call-2-2/2026-05-13/
LOCATION:WI
END:VEVENT
END:VCALENDAR